BEGIN:VCALENDAR
VERSION:2.0
PRODID:-//Inner Peace Message - ECPv6.15.20//NONSGML v1.0//EN
CALSCALE:GREGORIAN
METHOD:PUBLISH
X-WR-CALNAME:Inner Peace Message
X-ORIGINAL-URL:https://innerpeacemessage.com
X-WR-CALDESC:Events for Inner Peace Message
REFRESH-INTERVAL;VALUE=DURATION:PT1H
X-Robots-Tag:noindex
X-PUBLISHED-TTL:PT1H
BEGIN:VTIMEZONE
TZID:America/New_York
BEGIN:DAYLIGHT
TZOFFSETFROM:-0500
TZOFFSETTO:-0400
TZNAME:EDT
DTSTART:20250309T070000
END:DAYLIGHT
BEGIN:STANDARD
TZOFFSETFROM:-0400
TZOFFSETTO:-0500
TZNAME:EST
DTSTART:20251102T060000
END:STANDARD
BEGIN:DAYLIGHT
TZOFFSETFROM:-0500
TZOFFSETTO:-0400
TZNAME:EDT
DTSTART:20260308T070000
END:DAYLIGHT
BEGIN:STANDARD
TZOFFSETFROM:-0400
TZOFFSETTO:-0500
TZNAME:EST
DTSTART:20261101T060000
END:STANDARD
BEGIN:DAYLIGHT
TZOFFSETFROM:-0500
TZOFFSETTO:-0400
TZNAME:EDT
DTSTART:20270314T070000
END:DAYLIGHT
BEGIN:STANDARD
TZOFFSETFROM:-0400
TZOFFSETTO:-0500
TZNAME:EST
DTSTART:20271107T060000
END:STANDARD
END:VTIMEZONE
BEGIN:VTIMEZONE
TZID:UTC
BEGIN:STANDARD
TZOFFSETFROM:+0000
TZOFFSETTO:+0000
TZNAME:UTC
DTSTART:20250101T000000
END:STANDARD
END:VTIMEZONE
BEGIN:VEVENT
DTSTART;TZID=America/New_York:20260423T140000
DTEND;TZID=America/New_York:20260423T153000
DTSTAMP:20260423T195535
CREATED:20260423T032546Z
LAST-MODIFIED:20260423T032721Z
UID:978-1776952800-1776958200@innerpeacemessage.com
SUMMARY:Intuition\, Spirit Guides\, Life Purpose
DESCRIPTION:Clearly understand and experience who you are and why you are here. Live the meaningful\, fulfilling life you are here to live!\nTo Register for this class: Click here\nDuring this interactive class you will: \n\nExperience the power of your spiritual energy/aura.\nBegin to understand your life purpose and how you can unfold it.\nLearn about your team of guides and how you can be aware of their messages.\nDiscover how to recognize ANYTIME your Spiritual Helpers want to communicate with you.\nDiscover how sensitive you are to your environment and why it is essential you keep your energy vibration at a high positive level.\nExplore the 7 year life cycle and the purpose of each cycle.\nLearn the four ways you can use your Intuitive (psychic) abilities and the keys to developing all of them.\n\nYou are intelligent creative energy on a mission and this is an opportunity to refine your vision of that mission … your life purpose.\nInvestment: $15. For more information and to Register: CLICK HERE
URL:https://innerpeacemessage.com/event/intuition-spirit-guides-life-purpose/
LOCATION:Online Using ZOOM\, Online
ATTACH;FMTTYPE=image/jpeg:https://innerpeacemessage.com/wp-content/uploads/2026/04/rediscover-mailchimp.jpg
ORGANIZER;CN="Anne Earley":MAILTO:innerpeacemessage@gmail.com
END:VEVENT
BEGIN:VEVENT
DTSTART;TZID=UTC:20260419T160000
DTEND;TZID=UTC:20260422T200000
DTSTAMP:20260423T195535
CREATED:20260409T191038Z
LAST-MODIFIED:20260409T191643Z
UID:966-1776614400-1776888000@innerpeacemessage.com
SUMMARY:Shine The Light That You Are
DESCRIPTION:“The more light you allow within you the brighter the world you live in will be.” –\nShakti Gawain.\nRegister at:  spiritsriver.com  and receive the Zoom Link to attend for this class \nYour life is your unique spiritual venture\, designed to unlock your innate beingness\, your\ninner power and your connection to higher consciousness. You are here to express your\nwisdom from many lifetimes and to expand your consciousness without ego or suffering. \nYour soul’s evolution is up to you\, but you can access help\, both seen and unseen\, to\nmaster your energy! This class will clarify the game of life and show you the essence of living in two worlds. \nJoin with kindred spirits to explore and manifest the abundance of life infused with high\nenergy\, wisdom and purpose.\nHere is the focus of this free session: \n\nLearn how proven practical spiritual methods will open the doors to your inner power\,\nyour intuition\, and unique life purpose.\nFind how you can transcend any doubt\, judgment\, or fear and gain Inner mastery.\nExplore how you can navigate new waters spiritually and meet life’s challenges with\ngrace and inner security.\nExperience the inner harmony and self-respect that balancing your spiritual and material\nlife brings.
URL:https://innerpeacemessage.com/event/shine-the-light-that-you-are/
LOCATION:Online Using ZOOM\, Online
CATEGORIES:Lectures & Workshops
ATTACH;FMTTYPE=image/png:https://innerpeacemessage.com/wp-content/uploads/2026/04/Shine-Light-Mailchimp-.png
ORGANIZER;CN="Anne Earley":MAILTO:innerpeacemessage@gmail.com
END:VEVENT
BEGIN:VEVENT
DTSTART;TZID=America/New_York:20260322T160000
DTEND;TZID=America/New_York:20260325T200000
DTSTAMP:20260423T195535
CREATED:20260308T160424Z
LAST-MODIFIED:20260308T161838Z
UID:958-1774195200-1774468800@innerpeacemessage.com
SUMMARY:Don’t Buy into Others Stress – Use Angel power
DESCRIPTION:REGISTER HERE   This free talk about angels\, banishing stress and understanding our own unique inner communication will give you insights and inspirations for life.  \nYou may know of angels as guides\, spirit guides\, Messengers of God\, Inner Guidance\, or guardian angels.  \nUnderstandings and experiences with angels have been with us for thousands of years.  \nWhat we often don’t know is that angels are practical and easily reachable.  \nThe key is to achieve clear communication with our angels. \nIn this free class\, we’ll answer questions such as: \n\nWhat’s the difference between my busy mind\, God\, angels or something else?\nHow do I know when angels are around?\nCan angels help me with my direction?\nHow do angels work with my sixth sense?\nCan they help me with my life’s purpose?\n\nIf you have asked yourself any of these questions\, then this free talk may provide added insights to your own. Definitely\, be prepared to enjoy yourself among our knowledgeable facilitators! We like to interact and share keys that enrich our lives and free us from thinking that can hold us back. 
URL:https://innerpeacemessage.com/event/dont-buy-into-others-stress-use-angel-power/
LOCATION:Online Using ZOOM\, Online
ATTACH;FMTTYPE=image/png:https://innerpeacemessage.com/wp-content/uploads/2026/03/Angel-Mailchimp-.png
END:VEVENT
BEGIN:VEVENT
DTSTART;TZID=America/New_York:20260217T140000
DTEND;TZID=America/New_York:20260218T220000
DTSTAMP:20260423T195535
CREATED:20260212T182857Z
LAST-MODIFIED:20260212T183159Z
UID:882-1771336800-1771452000@innerpeacemessage.com
SUMMARY:Be Your Own Best Psychic
DESCRIPTION:FREE ONLINE CLASS\nInterested in harnessing your innate\, real and practical psychic gifts?\nREGISTER HERE… for your preferred time to attend on online and a Zoom link will be emailed to you. \nWe are all psychic; it’s not a gift for just “special people”.\nWe use our sixth sense daily\, such as from having inner knowings about people to receiving a feeling to make a certain purchase or business decision at a certain time. \nJoin this free session to see how your intuition works\nSee how pressures of living can dampen those innate extrasensory perceptions.\nA few other take-aways from this session are: \n\nincreasing inner harmony\nlearning about the reality of spirit guides or master souls that back us\, and how to communicate with them\nseeing how stress can undermine our intuitive nature\, and how to minimize these pressures in life\nlearning more about an expanded “Spiritual Freedom” series that provides practical tools for more success and inner fulfillment.\n\nDrawing upon Experiences and Life Lessons\nThis interactive session will provide handy tips and wisdom about our sixth sense to help us smooth out our path in life.\nThe facilitators of these classes have years of experience leading talks\, workshops and courses on these topics\, and have shared about them in regular media interviews in Canada\, the US and Europe.\nThey have used this ability to better their own lives\, and enjoy passing along this knowledge to others. \n(Note that while we realize you are psychic\, we do suggest you set a timer alert for yourself so you don’t miss the chance to attend this energizing class. We do not record the classes for play back later; they are best experienced in the moment.)\nWe look forward to meeting you!
URL:https://innerpeacemessage.com/event/be-your-own-best-psychic/
LOCATION:Online Using ZOOM\, Online
ATTACH;FMTTYPE=image/png:https://innerpeacemessage.com/wp-content/uploads/2026/02/crystal-Ball-Meetup.png
ORGANIZER;CN="Anne Earley":MAILTO:innerpeacemessage@gmail.com
END:VEVENT
END:VCALENDAR